BEGIN:VCALENDAR
VERSION:2.0
PRODID:-//Energy for Life Fitness Yoga &amp; Pilates - ECPv6.15.17.1//NONSGML v1.0//EN
CALSCALE:GREGORIAN
METHOD:PUBLISH
X-ORIGINAL-URL:https://www.energyforlifefitness.com
X-WR-CALDESC:Events for Energy for Life Fitness Yoga &amp; Pilates
REFRESH-INTERVAL;VALUE=DURATION:PT1H
X-Robots-Tag:noindex
X-PUBLISHED-TTL:PT1H
BEGIN:VTIMEZONE
TZID:Europe/London
BEGIN:DAYLIGHT
TZOFFSETFROM:+0000
TZOFFSETTO:+0100
TZNAME:BST
DTSTART:20230326T010000
END:DAYLIGHT
BEGIN:STANDARD
TZOFFSETFROM:+0100
TZOFFSETTO:+0000
TZNAME:GMT
DTSTART:20231029T010000
END:STANDARD
BEGIN:DAYLIGHT
TZOFFSETFROM:+0000
TZOFFSETTO:+0100
TZNAME:BST
DTSTART:20240331T010000
END:DAYLIGHT
BEGIN:STANDARD
TZOFFSETFROM:+0100
TZOFFSETTO:+0000
TZNAME:GMT
DTSTART:20241027T010000
END:STANDARD
BEGIN:DAYLIGHT
TZOFFSETFROM:+0000
TZOFFSETTO:+0100
TZNAME:BST
DTSTART:20250330T010000
END:DAYLIGHT
BEGIN:STANDARD
TZOFFSETFROM:+0100
TZOFFSETTO:+0000
TZNAME:GMT
DTSTART:20251026T010000
END:STANDARD
END:VTIMEZONE
BEGIN:VEVENT
DTSTART;TZID=Europe/London:20241201T133000
DTEND;TZID=Europe/London:20241201T153000
DTSTAMP:20260424T204902
CREATED:20231109T145648Z
LAST-MODIFIED:20241010T133801Z
UID:9093-1733059800-1733067000@www.energyforlifefitness.com
SUMMARY:Christmas & End Of Year Party 2024
DESCRIPTION:Join us and the EFL team to celebrate the festive season and wrap up the year that has been 2024. It’s such a great way to get to know the community a little bit better and have some fun.\nThere’ll be drinks (alcoholic and non)\, snacks\, games and good times.\nFamily and friends welcome. \nBook Here
URL:https://www.energyforlifefitness.com/event/christmas-end-of-year-party-2024/
LOCATION:Energy for Life Fitness & Yoga\, 75 Sussex Street\, Brighton\, East Sussex\, BN2 0GQ\, United Kingdom
ATTACH;FMTTYPE=image/png:https://www.energyforlifefitness.com/wp-content/uploads/2023/11/CHRISTMAS-PARTY-2024-Instagram-Post.png
ORGANIZER;CN="Emma Powell":MAILTO:emma@energyforlifefitness.com
END:VEVENT
END:VCALENDAR