BEGIN:VCALENDAR
VERSION:2.0
PRODID:-//Energy for Life Fitness Yoga &amp; Pilates - ECPv6.15.17.1//NONSGML v1.0//EN
CALSCALE:GREGORIAN
METHOD:PUBLISH
X-ORIGINAL-URL:https://www.energyforlifefitness.com
X-WR-CALDESC:Events for Energy for Life Fitness Yoga &amp; Pilates
REFRESH-INTERVAL;VALUE=DURATION:PT1H
X-Robots-Tag:noindex
X-PUBLISHED-TTL:PT1H
BEGIN:VTIMEZONE
TZID:Europe/London
BEGIN:DAYLIGHT
TZOFFSETFROM:+0000
TZOFFSETTO:+0100
TZNAME:BST
DTSTART:20240331T010000
END:DAYLIGHT
BEGIN:STANDARD
TZOFFSETFROM:+0100
TZOFFSETTO:+0000
TZNAME:GMT
DTSTART:20241027T010000
END:STANDARD
BEGIN:DAYLIGHT
TZOFFSETFROM:+0000
TZOFFSETTO:+0100
TZNAME:BST
DTSTART:20250330T010000
END:DAYLIGHT
BEGIN:STANDARD
TZOFFSETFROM:+0100
TZOFFSETTO:+0000
TZNAME:GMT
DTSTART:20251026T010000
END:STANDARD
BEGIN:DAYLIGHT
TZOFFSETFROM:+0000
TZOFFSETTO:+0100
TZNAME:BST
DTSTART:20260329T010000
END:DAYLIGHT
BEGIN:STANDARD
TZOFFSETFROM:+0100
TZOFFSETTO:+0000
TZNAME:GMT
DTSTART:20261025T010000
END:STANDARD
END:VTIMEZONE
BEGIN:VEVENT
DTSTART;TZID=Europe/London:20250920T110000
DTEND;TZID=Europe/London:20250920T130000
DTSTAMP:20260424T075947
CREATED:20250219T143656Z
LAST-MODIFIED:20250902T130122Z
UID:9636-1758366000-1758373200@www.energyforlifefitness.com
SUMMARY:Handstands Workshop: Depth & Breadth
DESCRIPTION:Handstand Workshop with Ben Walker\n\nFocus: Depth & Breadth\nSaturday 20th Sept 11am – 1pm at Energy for life\n£30 per person\n\nA two hour deep dive\, led by Ben Walker\, into handstands\, acrobatics and adjacent skills\, in which we will capitalise on breadth and novelty to build a versatile practice. Suitable for anyone that has dabbled with inversions\, expect to spend lots of time upside down but also moving with different shapes\, speeds and intentions\, ultimately developing our innate physical familiarity with our bodies.
URL:https://www.energyforlifefitness.com/event/handstand-workshop-with-ben/
LOCATION:Energy for Life Fitness & Yoga\, 75 Sussex Street\, Brighton\, East Sussex\, BN2 0GQ\, United Kingdom
ATTACH;FMTTYPE=image/jpeg:https://www.energyforlifefitness.com/wp-content/uploads/2025/02/PXL_20250222_152755007_exported_1540852.jpg
END:VEVENT
END:VCALENDAR