BEGIN:VCALENDAR
VERSION:2.0
PRODID:-//Energy for Life Fitness Yoga &amp; Pilates - ECPv6.15.17.1//NONSGML v1.0//EN
CALSCALE:GREGORIAN
METHOD:PUBLISH
X-ORIGINAL-URL:https://www.energyforlifefitness.com
X-WR-CALDESC:Events for Energy for Life Fitness Yoga &amp; Pilates
REFRESH-INTERVAL;VALUE=DURATION:PT1H
X-Robots-Tag:noindex
X-PUBLISHED-TTL:PT1H
BEGIN:VTIMEZONE
TZID:Europe/London
BEGIN:DAYLIGHT
TZOFFSETFROM:+0000
TZOFFSETTO:+0100
TZNAME:BST
DTSTART:20240331T010000
END:DAYLIGHT
BEGIN:STANDARD
TZOFFSETFROM:+0100
TZOFFSETTO:+0000
TZNAME:GMT
DTSTART:20241027T010000
END:STANDARD
BEGIN:DAYLIGHT
TZOFFSETFROM:+0000
TZOFFSETTO:+0100
TZNAME:BST
DTSTART:20250330T010000
END:DAYLIGHT
BEGIN:STANDARD
TZOFFSETFROM:+0100
TZOFFSETTO:+0000
TZNAME:GMT
DTSTART:20251026T010000
END:STANDARD
BEGIN:DAYLIGHT
TZOFFSETFROM:+0000
TZOFFSETTO:+0100
TZNAME:BST
DTSTART:20260329T010000
END:DAYLIGHT
BEGIN:STANDARD
TZOFFSETFROM:+0100
TZOFFSETTO:+0000
TZNAME:GMT
DTSTART:20261025T010000
END:STANDARD
END:VTIMEZONE
BEGIN:VEVENT
DTSTART;TZID=Europe/London:20251010T190000
DTEND;TZID=Europe/London:20251010T220000
DTSTAMP:20260424T051156
CREATED:20220405T154220Z
LAST-MODIFIED:20250710T105123Z
UID:7523-1760122800-1760133600@www.energyforlifefitness.com
SUMMARY:Into the Heart: Cacao\, Dance\, Gong Workshop
DESCRIPTION:Please note\, time of event is 7.15-10.15pm \nLove the feeling of freedom you get from dancing but you’re after something more wholesome and soul enriching than the normal night out? Then this one is for you. \nJoin Tabather and Kasia on an evening of discovery as you travel through the elements in this ceremonial cacao\, conscious dance and healing gong bath evening\, which will take you on a journey into the heart. \nBeginning with a ceremonial cacao ceremony\, a gentle dose of this heart medicine will be the perfect opening to the dance. Kasia will expertly guide you to move your body\, inviting curiosity to express yourself freely. Through gentle guidance you will first awaken to the element of Ether within. Then this will transform into Air\, then Earth\, into Fire\, into Water\, and finally dancing back into the new quality of Ether. Together these 5 elements make up the entire Universe and form the fabric of your inner world. Each element becomes a different stage of moving into the heart. Afterwards gently rest and receive the healing sound of the Gong delivered by the beautifully intuitive Tabather. \n~ breathe ~ ground ~ release ~ flow ~ relax ~ \n \nPracticals: \n\nEverybody is welcome and no experience needed. And if it feels out of your comfort zone\, you are whole-heartedly invited to take this next step and experience the magic of this evening for yourself.\nThe safe space is created to move and dance freely and to listen to your body – honoring its unique expression\nDance barefoot if possible\nIt is an active meditation\, so whatever is going on for you\, bring it to the dance and keep it moving\nAlcohol and substance free space\n\nWhat to bring? \n\nYour beautiful self\nA special cup for the cacao and a bottle of water to stay hydrated\nWear comfortable clothes\, layers work well as you warm up & cool down\nWhatever you need to feel comfy for the Gong bath (e.g. blankets\, yoga mat\, pillow\, eye pillow). We can provide a mat and blankets if you cannot bring.\n\nPlease arrive by 6.45 pm so we start on time and open together with the cacao ceremony. \nWhat people have said: \n“Kasia & Tabather’s unique offerings complimented one another beautifully. The event was held in devotion and intention which helped me connect to what was alive in me with ease and grace. I noticed profound changes the following day at work when I managed to do something I’ve not been able to do ever before! Which I really wasn’t expecting! The evening had a similar effect as that of a really juicy therapy session which then got me thinking what incredible value! Thank you both so much ❤️” \n“Tabather and Kasia’s into the heart evenings are amazing. They create and hold such a safe space that allows me to express myself in a way that feels powerful and liberating without fear of any consequence from this. It is a perfect blend of playfulness\, authentic connection and grounding that makes it such a nourishing evening. All the little touches including opening and closing circles and the immersive sound bath at the end help to build that sense of connection and safety. My favourite ecstatic dance in Brighton 💛”
URL:https://www.energyforlifefitness.com/event/7523/
LOCATION:Energy for Life Fitness & Yoga\, 75 Sussex Street\, Brighton\, East Sussex\, BN2 0GQ\, United Kingdom
ATTACH;FMTTYPE=image/png:https://www.energyforlifefitness.com/wp-content/uploads/2022/04/Into-the-heart-Instagram-Post-3.png
ORGANIZER;CN="Tabather Bessey":MAILTO:soulomorfi@hotmail.com
END:VEVENT
END:VCALENDAR