BEGIN:VCALENDAR
VERSION:2.0
PRODID:-//Energy for Life Fitness Yoga &amp; Pilates - ECPv6.15.17.1//NONSGML v1.0//EN
CALSCALE:GREGORIAN
METHOD:PUBLISH
X-WR-CALNAME:Energy for Life Fitness Yoga &amp; Pilates
X-ORIGINAL-URL:https://www.energyforlifefitness.com
X-WR-CALDESC:Events for Energy for Life Fitness Yoga &amp; Pilates
REFRESH-INTERVAL;VALUE=DURATION:PT1H
X-Robots-Tag:noindex
X-PUBLISHED-TTL:PT1H
BEGIN:VTIMEZONE
TZID:Europe/London
BEGIN:DAYLIGHT
TZOFFSETFROM:+0000
TZOFFSETTO:+0100
TZNAME:BST
DTSTART:20250330T010000
END:DAYLIGHT
BEGIN:STANDARD
TZOFFSETFROM:+0100
TZOFFSETTO:+0000
TZNAME:GMT
DTSTART:20251026T010000
END:STANDARD
BEGIN:DAYLIGHT
TZOFFSETFROM:+0000
TZOFFSETTO:+0100
TZNAME:BST
DTSTART:20260329T010000
END:DAYLIGHT
BEGIN:STANDARD
TZOFFSETFROM:+0100
TZOFFSETTO:+0000
TZNAME:GMT
DTSTART:20261025T010000
END:STANDARD
BEGIN:DAYLIGHT
TZOFFSETFROM:+0000
TZOFFSETTO:+0100
TZNAME:BST
DTSTART:20270328T010000
END:DAYLIGHT
BEGIN:STANDARD
TZOFFSETFROM:+0100
TZOFFSETTO:+0000
TZNAME:GMT
DTSTART:20271031T010000
END:STANDARD
END:VTIMEZONE
BEGIN:VEVENT
DTSTART;TZID=Europe/London:20260226T190000
DTEND;TZID=Europe/London:20260226T220000
DTSTAMP:20260423T215022
CREATED:20240201T142527Z
LAST-MODIFIED:20260203T101715Z
UID:9230-1772132400-1772143200@www.energyforlifefitness.com
SUMMARY:EFL Quiz Social
DESCRIPTION:Hi everyone! We’re excited to invite you to our first social of 2026. The EFL Quiz Night 🧐\nJoin us for a fun\, laid-back quiz night at Starfish and Coffee\, created exclusively for our EFL community — so we’ll be blissfully free of the hyper-competitive quiz aficionados and their suspiciously fast answers. \nExpect honed fitness-themed puns\, questions that flex the brain (not the ego)\, plenty of laughs\, and a genuinely social vibe. No revision required\, no pressure to perform — just good company\, a bit of friendly banter\, and an evening of fun with your fellow studio regulars. \nCreate a team of 4-5 or message tom to find you a team. Tony’s famously delicious Pizza’s may be buyable on the night if enough interest\, please give me a thumbs up emoji if interested in Pizza. All other emojis for interest in attendance welcomed. \nPlease book (for free) via the MINDBODY app or our timetable page on the website so we have an idea of numbers.
URL:https://www.energyforlifefitness.com/event/pub-quiz-social-evening/
LOCATION:Starfish and Coffee
ATTACH;FMTTYPE=image/png:https://www.energyforlifefitness.com/wp-content/uploads/2024/02/Quiz-Night-26-Instagram-Post.png
END:VEVENT
END:VCALENDAR