BEGIN:VCALENDAR
VERSION:2.0
PRODID:-//Energy for Life Fitness Yoga &amp; Pilates - ECPv6.15.17.1//NONSGML v1.0//EN
CALSCALE:GREGORIAN
METHOD:PUBLISH
X-ORIGINAL-URL:https://www.energyforlifefitness.com
X-WR-CALDESC:Events for Energy for Life Fitness Yoga &amp; Pilates
REFRESH-INTERVAL;VALUE=DURATION:PT1H
X-Robots-Tag:noindex
X-PUBLISHED-TTL:PT1H
BEGIN:VTIMEZONE
TZID:Europe/London
BEGIN:DAYLIGHT
TZOFFSETFROM:+0000
TZOFFSETTO:+0100
TZNAME:BST
DTSTART:20250330T010000
END:DAYLIGHT
BEGIN:STANDARD
TZOFFSETFROM:+0100
TZOFFSETTO:+0000
TZNAME:GMT
DTSTART:20251026T010000
END:STANDARD
BEGIN:DAYLIGHT
TZOFFSETFROM:+0000
TZOFFSETTO:+0100
TZNAME:BST
DTSTART:20260329T010000
END:DAYLIGHT
BEGIN:STANDARD
TZOFFSETFROM:+0100
TZOFFSETTO:+0000
TZNAME:GMT
DTSTART:20261025T010000
END:STANDARD
BEGIN:DAYLIGHT
TZOFFSETFROM:+0000
TZOFFSETTO:+0100
TZNAME:BST
DTSTART:20270328T010000
END:DAYLIGHT
BEGIN:STANDARD
TZOFFSETFROM:+0100
TZOFFSETTO:+0000
TZNAME:GMT
DTSTART:20271031T010000
END:STANDARD
END:VTIMEZONE
BEGIN:VEVENT
DTSTART;TZID=Europe/London:20260328T110000
DTEND;TZID=Europe/London:20260328T130000
DTSTAMP:20260423T215127
CREATED:20240627T113808Z
LAST-MODIFIED:20260303T170123Z
UID:9450-1774695600-1774702800@www.energyforlifefitness.com
SUMMARY:Parkour Foundations Workshop - All Levels
DESCRIPTION:We are super excited to announce our next Parkour workshop at EFL – Parkour Foundations with Arty & Posy! \n\n📅 Date: 28th March\n🕒 Time: 11am – 1pm\n£25 per person\n\nLearn the foundations of parkour\, to move freely over and across any terrain using running\, jumping\, climbing and quadrupedal movement. \nThis workshop is perfect for adults looking to add some new movement skills to your training (or who want to keep up with their kids 🤣) \, no experience required\, beginners welcome but due to the high impact nature of parkour it is not recommended for people with lower limb injuries. DM with any questions you might have.
URL:https://www.energyforlifefitness.com/event/introduction-to-parkour-for-adults-workshop/
LOCATION:Energy for Life Fitness & Yoga\, 75 Sussex Street\, Brighton\, East Sussex\, BN2 0GQ\, United Kingdom
ATTACH;FMTTYPE=image/png:https://www.energyforlifefitness.com/wp-content/uploads/2024/06/parkour-foundations-1.png
END:VEVENT
END:VCALENDAR