BEGIN:VCALENDAR
VERSION:2.0
PRODID:-//Energy for Life Fitness Yoga &amp; Pilates - ECPv6.15.17.1//NONSGML v1.0//EN
CALSCALE:GREGORIAN
METHOD:PUBLISH
X-WR-CALNAME:Energy for Life Fitness Yoga &amp; Pilates
X-ORIGINAL-URL:https://www.energyforlifefitness.com
X-WR-CALDESC:Events for Energy for Life Fitness Yoga &amp; Pilates
REFRESH-INTERVAL;VALUE=DURATION:PT1H
X-Robots-Tag:noindex
X-PUBLISHED-TTL:PT1H
BEGIN:VTIMEZONE
TZID:Europe/London
BEGIN:DAYLIGHT
TZOFFSETFROM:+0000
TZOFFSETTO:+0100
TZNAME:BST
DTSTART:20210328T010000
END:DAYLIGHT
BEGIN:STANDARD
TZOFFSETFROM:+0100
TZOFFSETTO:+0000
TZNAME:GMT
DTSTART:20211031T010000
END:STANDARD
BEGIN:DAYLIGHT
TZOFFSETFROM:+0000
TZOFFSETTO:+0100
TZNAME:BST
DTSTART:20220327T010000
END:DAYLIGHT
BEGIN:STANDARD
TZOFFSETFROM:+0100
TZOFFSETTO:+0000
TZNAME:GMT
DTSTART:20221030T010000
END:STANDARD
BEGIN:DAYLIGHT
TZOFFSETFROM:+0000
TZOFFSETTO:+0100
TZNAME:BST
DTSTART:20230326T010000
END:DAYLIGHT
BEGIN:STANDARD
TZOFFSETFROM:+0100
TZOFFSETTO:+0000
TZNAME:GMT
DTSTART:20231029T010000
END:STANDARD
BEGIN:DAYLIGHT
TZOFFSETFROM:+0000
TZOFFSETTO:+0100
TZNAME:BST
DTSTART:20240331T010000
END:DAYLIGHT
BEGIN:STANDARD
TZOFFSETFROM:+0100
TZOFFSETTO:+0000
TZNAME:GMT
DTSTART:20241027T010000
END:STANDARD
END:VTIMEZONE
BEGIN:VEVENT
DTSTART;TZID=Europe/London:20230305T130000
DTEND;TZID=Europe/London:20230305T160000
DTSTAMP:20260424T150909
CREATED:20221201T101743Z
LAST-MODIFIED:20221208T091029Z
UID:8300-1678021200-1678032000@www.energyforlifefitness.com
SUMMARY:Law of Attraction Workshop with Tracy Friend
DESCRIPTION:Whether you are wanting to attract new experiences\, relationships and situations\, a greater sense of well-being or to move forward on your spiritual path\, this workshop will show you how. \nTracy shares what she has learnt and pioneered through facilitating hundreds of events across the UK\, US and Asia over the last fifteen years\, about what works when applying the Law of Attraction. With simple and transformative processes including written exercises and meditation\, you will empower yourself with a practical approach to personal development. \nTracy’s pioneering presentation delivering The Law of Attraction Centre technology is optimistic and soothing\, whilst bringing empowering results on all subjects. \nInspiring\, comprehensive handouts are also provided. \nBenefits of Attending this Workshop: \n\nLearn the principles of manifestation\nDiscover how to deliberately attract more of what you want: abundance\, improved relationships\,\nhealth & well-being or any other desire\nDetermine how to incorporate the Law of Attraction into your daily life\nBegin to enjoy your life more\nLet go of any negative thought habits that have been blocking your dreams and ambitions\nMeet and connect with like-minded people in an uplifting and friendly space\nThis workshop includes printed Law of Attraction exercises\nThis event is suitable for you whether you are new to the Law of Attraction principles or you have been applying them for longer.\n\nPlease note that it is necessary to be aged 18 years or older to attend this event. \n\n\n \nFacilitated by Tracy Friend: \nTracy Friend is co-founder of the Law of Attraction Centre and founder of Liberating the Heart. Established in 2003\, the Law of Attraction Centre (www.lawofattractioncentre.com) is the largest and most inspirational community of its kind ‘Living the Law of Attraction’ in Europe and a leading force for positive change in people’s lives. \nTestimonials: \n“Tracy’s workshops are wonderful to attend. Whether it be virtually or in person\, the energy that she allows to be created in group is one that is calm\, relaxing and healing. I continue to attend Tracy’s workshops because her wealth of knowledge on spiritual practices is shared in an understandable and relatable way. I always feel like I’ve grown spiritually after I have attended. Tracy’s gentle and supportive approach\, alongside her enthusiasm for the spiritual path makes attending groups a fun and rewarding experience. My life has and is continuing to\, shift and change for the better. Thank you Tracy.” \n“I love the tenor of what Tracy does. Sincere. Heart-felt. Authentic.”  \n“Very informative and amazing positive energy.” \n“Excellent workshop with clear theory and powerful\, practical techniques that have led to significant positive changes in my life.”
URL:https://www.energyforlifefitness.com/event/workshop-law-of-attraction-with-tracy-friend/
LOCATION:Energy for Life Fitness & Yoga\, 75 Sussex Street\, Brighton\, East Sussex\, BN2 0GQ\, United Kingdom
ATTACH;FMTTYPE=image/png:https://www.energyforlifefitness.com/wp-content/uploads/2022/12/law-of-attraction.png
END:VEVENT
BEGIN:VEVENT
DTSTART;TZID=Europe/London:20230302T190000
DTEND;TZID=Europe/London:20230302T223000
DTSTAMP:20260424T150909
CREATED:20230202T165217Z
LAST-MODIFIED:20230214T171153Z
UID:8655-1677783600-1677796200@www.energyforlifefitness.com
SUMMARY:Pub Quiz Night Social
DESCRIPTION:This is the first event from our 2023 calendar and we are super excited for it. The plan is to take as many of you as possible along to the pub quiz at the newly done out Islingword Pub on Queens Park Road\, to see if you lot are as clever as you are strong\, fit and flexible! We will divide our group up into teams of 6 and see if we can’t win us some prizes. \nIf you are keen to get involved please click the button below to book a spot so we have a good idea of numbers as we need to reserve tables asap. Even if you are just a potentially maybe\, please book in for now…
URL:https://www.energyforlifefitness.com/event/social-pub-quiz-night/
LOCATION:Islingword Pub\, 175 Queen's Park Road\, Brighton\, BN2 9ZA
ATTACH;FMTTYPE=image/png:https://www.energyforlifefitness.com/wp-content/uploads/2023/02/Trivia-Night-Flyer-2.png
ORGANIZER;CN="Emma Powell":MAILTO:emma@energyforlifefitness.com
END:VEVENT
BEGIN:VEVENT
DTSTART;TZID=Europe/London:20230205T140000
DTEND;TZID=Europe/London:20230205T160000
DTSTAMP:20260424T150909
CREATED:20221201T110546Z
LAST-MODIFIED:20221208T090629Z
UID:8311-1675605600-1675612800@www.energyforlifefitness.com
SUMMARY:Partner Yoga Workshop with Funky Tunes
DESCRIPTION:Give yourself a vibrant Sunday afternoon this winter. Combining a love of funky tunes and partner work we’ll have fun and improve your flexibility\, alignment\, strength and balance. \nWe will start with energising movements linking postures with breath to optimally warm up. Great tunes\, and some funky moves will give us time to unwind\, try new things and prepare for the second part of the session.\nDuring the partner work section of the class you will be working with a friend or partner\, which not only compliments our usual self-practice\, but enhances and deepens it on a physical and spiritual level. It is also a great way of working with a group of people and feeling the underlying message of yoga – true connection and union. We will explore different movements and exercises to help each other to build flexibility & strength\, go upside down and push slightly beyond the perceived limitations. \nThis empowering class is sure to have you smiling widely\, deepening connections and leaving you stress free and ready for whatever the new week has in store for you. \nAll levels of practice are welcome\, although it is advised to have some background in terms of physical movement. \nYou can either come together with a friend or come alone and you will be partnered with another participant.
URL:https://www.energyforlifefitness.com/event/partner-yoga-funky-tunes-workshop-with-daria/
LOCATION:Energy for Life Fitness & Yoga\, 75 Sussex Street\, Brighton\, East Sussex\, BN2 0GQ\, United Kingdom
ATTACH;FMTTYPE=image/png:https://www.energyforlifefitness.com/wp-content/uploads/2022/12/partner-workshop-2.png
END:VEVENT
BEGIN:VEVENT
DTSTART;TZID=Europe/London:20230128T160000
DTEND;TZID=Europe/London:20230128T190000
DTSTAMP:20260424T150909
CREATED:20230103T134601Z
LAST-MODIFIED:20230103T134736Z
UID:8359-1674921600-1674932400@www.energyforlifefitness.com
SUMMARY:Your Life Made Easier Workshop
DESCRIPTION:Emotional clear out support for women that want an easier life. \nIf you found 2022 went fast and you found yourself busy and tired and juggling too many balls and wearing too many hats\, then this workshop is for you. \nIf you value honest communication\, want to set boundaries\, stop people pleasing and want more time and space to yourself – then this workshop is going to show you HOW without it feeling hard.\nEveryone values honest communication; we know that telling the truth is what we need to do. Yet\, we fear upsetting people\, we fear rocking the boat and we fear conflict. \nAs women we are designed to nurture and nourish and look after others – If you have a burning desire to run away and do a Shirley Valentine right now\, then this workshop is for you! \nThe goal of this workshop is to provide you with tools to understand your emotions and the message that your body and mind give you so that you can live consciously and respond calmly to life’s events. \n– Learn to foster a deeper more meaningful relationship with yourself and with others.\n– Learn to regulate your emotions: This makes life so much easier\, you gain more energy and time\, feel calmer in your body and therefore less stressed and this benefits the whole family. A calm and content mom means a happier home.\n– Learn how to say what you feel and say what you need\, without it feeling hard or losing friends/family members and without it turning into a heated discussion\nStop worrying about being judged and learn to let go of “shoulds” for ultimate aligned living\n– Learn how to let go of resentment and anger and needing to feel in control\n– Identify your ego stories and shadow self and learn to notice how your – self narrative drives many of your emotional reactions and behaviours\n– Learn how to embody your emotions rather than take your anger out on the family – this really helps any women that find themselves feeling snappy or shouting at the kids by cultivating your wise inner parent to identify your needs\n– Explore and reconnect with your deepest wants and desires\, practising expressing your true authentic self in all areas of your life and speaking out about what you truly need without feeling cringy or ungrateful or selfish.\n– Release self-sabotaging behaviour that leaves us feeling stuck\, trapped\, unfulfilled and tense in the body (particularly shoulders and hips and pelvic floor)\n– Break free from destructive behaviour to reclaim our energy \nTestimonial’s: \nMany of Emma’s clients report a ripple effect happening across the whole family when they work with her: \nMom of 1 said “My partner just came in and said something to me that I would have usually reacted to\, today I didn’t and that felt great. This meant that I didn’t raid the biscuit tin either as I didn’t feel like I needed to eat my emotions” \nAnother client of 3 children said “My partner came home and spoke nicely to me; I asked him if he had had some sort of therapy and he replied:\n“No\, I am simply communicating better\, I have noticed how you are changing\, and I like it\, I want to follow what you have been doing so the house can become calmer” \nAfter this workshop: \nAfter this workshop you will feel lighter. You will have less tension in the body\, more room to expand\, more in control and a greater understanding of your emotions and how emotions are simply feedback from the body for us to look at a deeper level. Expect to have more time and energy for what you DO want over worrying and feeling emotional about what you don’t want. \nPlease Bring: \nPlease come with an open mind\, bring water and notebook and wear comfortable clothes you can move in\, and wear layers incase you feel hot or cold.
URL:https://www.energyforlifefitness.com/event/your-life-made-easier-workshop/
LOCATION:Energy for Life Fitness & Yoga\, 75 Sussex Street\, Brighton\, East Sussex\, BN2 0GQ\, United Kingdom
ATTACH;FMTTYPE=image/png:https://www.energyforlifefitness.com/wp-content/uploads/2023/01/Your-Life-Made-Easier-Workshop.png
END:VEVENT
BEGIN:VEVENT
DTSTART;TZID=Europe/London:20230122T123000
DTEND;TZID=Europe/London:20230122T150000
DTSTAMP:20260424T150909
CREATED:20230110T135924Z
LAST-MODIFIED:20230110T140419Z
UID:8380-1674390600-1674399600@www.energyforlifefitness.com
SUMMARY:Reclaim Your Breath Workshop
DESCRIPTION:Our breath should be diaphragmatic\, effortless and deep. It should fill us with energy and provide a healthy body and mind. We all (or most of us) are born with this perfect breath\, but then life happens\, stress\, repetitive movements\, round posture\, lack of exercise\, and fatty processed foods are all influencing our breath. Over time these components overwrite our effortless breath into an unhealthy breathing pattern. \nThese newly learned breathing patterns can be the reason for enhanced anxiety\, pain in the neck and shoulders\, digestion issues\, high blood pressure\, breathlessness\, and the list goes on and on.\nAre you ready to RECLAIM YOUR BREATH? \nIn this workshop\, we will discover and dismantle our unhealthy breathing patterns and bring our breath back to what it once was. \nTo regain the nourishing flow of breath\, we will use specific asana\, pranayama and relaxation techniques. Understanding our anatomy and habits will gain us the knowledge to use our breath to live a more calm\, relaxed and nourished life. \nThis workshop includes: \n\nphysical asana practice\nbreath work (pranayama)\nbreath assessment\nlecture\ndiscussion
URL:https://www.energyforlifefitness.com/event/workshop/
LOCATION:Energy for Life Fitness & Yoga\, 75 Sussex Street\, Brighton\, East Sussex\, BN2 0GQ\, United Kingdom
ATTACH;FMTTYPE=image/png:https://www.energyforlifefitness.com/wp-content/uploads/2023/01/reclaim-your-breath-2-1.png
END:VEVENT
BEGIN:VEVENT
DTSTART;TZID=Europe/London:20220910T170000
DTEND;TZID=Europe/London:20220910T193000
DTSTAMP:20260424T150909
CREATED:20220818T132919Z
LAST-MODIFIED:20220818T135741Z
UID:8037-1662829200-1662838200@www.energyforlifefitness.com
SUMMARY:Social: EFL 7th Birthday Party
DESCRIPTION:Come and help us celebrate making it to the ripe old age of 7 years old on Saturday 10th September from 5pm-7:30pm at the studio. We’ll be laying on some food and drinks\, games and childrens entertainment so bring your friends and family along too. To help us plan numbers\, please book in via the timetable or MINDBODY app for this event. \nBook Here
URL:https://www.energyforlifefitness.com/event/social-efl-7th-birthday-party/
LOCATION:Energy for Life Fitness & Yoga\, 75 Sussex Street\, Brighton\, East Sussex\, BN2 0GQ\, United Kingdom
ATTACH;FMTTYPE=image/png:https://www.energyforlifefitness.com/wp-content/uploads/2022/08/Black-and-Golden-Illustrated-Birthday-Party-Invitation1.png
ORGANIZER;CN="Emma Powell":MAILTO:emma@energyforlifefitness.com
END:VEVENT
BEGIN:VEVENT
DTSTART;TZID=Europe/London:20220618T110000
DTEND;TZID=Europe/London:20220618T130000
DTSTAMP:20260424T150909
CREATED:20220407T123812Z
LAST-MODIFIED:20220502T152755Z
UID:7544-1655550000-1655557200@www.energyforlifefitness.com
SUMMARY:Workshop: Handstands with Ben & Henry
DESCRIPTION:A workshop perfect for you if you’ve played with handstands before and spent a little time upside (or almost!). We’ll identify a position or element that’s right for you to take away and work towards – your own specific goals are also welcome!
URL:https://www.energyforlifefitness.com/event/workshop-handstands-with-ben-henry/
LOCATION:Energy for Life Fitness & Yoga\, 75 Sussex Street\, Brighton\, East Sussex\, BN2 0GQ\, United Kingdom
ATTACH;FMTTYPE=image/png:https://www.energyforlifefitness.com/wp-content/uploads/2022/04/Screenshot-2022-04-07-at-13.36.23.png
END:VEVENT
BEGIN:VEVENT
DTSTART;TZID=Europe/London:20220522T130000
DTEND;TZID=Europe/London:20220522T160000
DTSTAMP:20260424T150909
CREATED:20220511T095026Z
LAST-MODIFIED:20220512T082529Z
UID:7809-1653224400-1653235200@www.energyforlifefitness.com
SUMMARY:Workshop: Yoga & Thai Massage for Head\, Neck & Shoulders
DESCRIPTION:An afternoon exploring Thai massage as an incredible tool for self-care and awareness that can inform our broader yoga practise. Touch can bring us into our bodies and allow us to encounter from the outside in as well as the inside out what is held and where. You will be guided through shared Thai massage techniques\, focussing on the head\, neck and shoulders\, that you can take home to share with friends and loved ones. \nWe will also explore playful\, accessible and deeply expansive breathing and physical yoga practises to further ease out held tension. \nWe will be working in pairs so great to come with someone you would like to practise with\, but you are also very welcome as you are. \nLeonie is a Senior Yoga teacher in the Vajrasati school\, and has been teaching since 2006\, as well as being an established therapeutic Thai Massage practitioner. She is known for her clear\, accessible and inclusive teaching and is passionate about sharing skills that improve her community’s wellbeing beyond the mat.\nIf you have particular physical or emotional needs that you would like to discuss before the workshop to ensure that you are nourished and held within the space\, please do feel free to talk to email lcbtaylor@gmail.com. \n£45 or £80 for 2 booking together\nBoth the individual pass and the double pass are available to purchase online or contact Tom on 07555058983 if you need assistance with booking. \n\n\n \n 
URL:https://www.energyforlifefitness.com/event/workshop-yoga-thai-massage-for-head-neck-shoulders/
LOCATION:Energy for Life Fitness & Yoga\, 75 Sussex Street\, Brighton\, East Sussex\, BN2 0GQ\, United Kingdom
ATTACH;FMTTYPE=image/jpeg:https://www.energyforlifefitness.com/wp-content/uploads/2022/05/Leo-January-2022-48-of-100_websize.jpg
END:VEVENT
BEGIN:VEVENT
DTSTART;TZID=Europe/London:20220514T110000
DTEND;TZID=Europe/London:20220514T120000
DTSTAMP:20260424T150909
CREATED:20220421T131328Z
LAST-MODIFIED:20220421T131328Z
UID:7555-1652526000-1652529600@www.energyforlifefitness.com
SUMMARY:EVENT: Family Treasure Hunt Fundraiser
DESCRIPTION:Join us for a fun family outdoor activity designed for adults and kids to enjoy. A treasure hunt around Queens Park starting and ending at the studio. Non-members welcome and no booking necessary\, just turn up. This is a free event\, but we are hoping to raise funds for a local family to help fund therapies for their son who has a rare genetic disorder called 2q37 deletion syndrome. Suggested donation £4 per family / team.
URL:https://www.energyforlifefitness.com/event/event-family-treasure-hunt-fundraiser/
LOCATION:Energy for Life Fitness & Yoga\, 75 Sussex Street\, Brighton\, East Sussex\, BN2 0GQ\, United Kingdom
ATTACH;FMTTYPE=image/png:https://www.energyforlifefitness.com/wp-content/uploads/2022/04/Screenshot-2022-04-21-at-14.00.15.png
ORGANIZER;CN="Emma Powell":MAILTO:emma@energyforlifefitness.com
END:VEVENT
BEGIN:VEVENT
DTSTART;TZID=Europe/London:20220401T193000
DTEND;TZID=Europe/London:20220401T220000
DTSTAMP:20260424T150909
CREATED:20220325T094054Z
LAST-MODIFIED:20220325T104301Z
UID:7503-1648841400-1648850400@www.energyforlifefitness.com
SUMMARY:Guest Workshop: Dance-Connect
DESCRIPTION:Dance-Connect is dance and much more… It’s an opportunity to dance\, and also a time to step out of doing in life and connect. Connect with what? \n\nwith yourself – the body\, follow what feels good for your body\nwith others – consensual connection\, relating non-verbally\nwith group / tribe – remembering what unites us\nwith environment / spirit – expanse\, breath\, meaning\n\nThis is a group session led by Julia of Heartnova\, incorporating dance\, embodiment exercises such as awareness and stretching\, sometimes breath-work\, and meditative experience.\nEach session is different\, but aims to create a structure where each person can have an experience of opening up to their own inner sensation\, potential pleasure\, and ability to experiment with what feels fun and nourishing for them in a group situation. No one does anything they don’t want to do. The group invites each person to develop self-care\, in terms of personal boundaries\, and it’s encouraged that a person can participate by either exploring an exercise or at any time sitting to the side to have some personal space. Simultaneously there is an invitation to be in “community-care” and to engage with others in a safe and nourishing way. \nThese sessions are a great way to exercise; dancing is so good for body\, mind and spirit. It’s also a place to explore and experiment with personal boundaries in a conscious community. You’ll be invited into the sacred aspect of life\, which can be reached through breath-work\, stillness and meditations which are woven into the evening. This can bring a space for an individual to find their own inner meaning and guidance. This becomes more important in our busy\, technological world to make space for inner sanctuary and finding personal wisdom.\nDance-Connects aims to be a safe\, fun atmosphere and acts as a detox from the business of life! Many people have said they leave feeling expansive and uplifted! Regular attendance offers a place to practise the development of our creative expression\, ease in our body\, social interaction and overall well being. Frequent practice supports our humanity\, for ourselves\, each other and the world we live in. \nWho’s it for? \n\nadults who would like to dance\npeople with lots of dance\, embodiment practice\, and welcome those with less.\n\nJulia brings a varied toolbox from training in Biodanza\, Tantra\, The Wheel of Consent and Ritual Play. She always aims to provide trauma-aware\, consensual facilitation and has over 20 years experience working with people.
URL:https://www.energyforlifefitness.com/event/guest-workshop-dance-connect/
LOCATION:Energy for Life Fitness & Yoga\, 75 Sussex Street\, Brighton\, East Sussex\, BN2 0GQ\, United Kingdom
ATTACH;FMTTYPE=image/jpeg:https://www.energyforlifefitness.com/wp-content/uploads/2022/03/hearnova-dance-connect.jpg
END:VEVENT
BEGIN:VEVENT
DTSTART;TZID=Europe/London:20220326T110000
DTEND;TZID=Europe/London:20220326T133000
DTSTAMP:20260424T150909
CREATED:20220301T163809Z
LAST-MODIFIED:20220303T153244Z
UID:7423-1648292400-1648301400@www.energyforlifefitness.com
SUMMARY:Workshop: Intro to Wild Movement with Nala
DESCRIPTION:This beginners workshop is a perfect opportunity to explore a variety of multi-disciplinary movement approaches to moving the body with skill\, grace and athleticism that will overall improve fitness and longevity. \nThis workshop will leave you feeling inspired\, reconnected and alive. Your perception of fitness may be challenged in a postive way. This workshop will truly rewild the spirit and give you an opportunity to feel truly connected to your body.\nThis workshop will be divided into two parts: \n\nWild Flow\nThis is a chance to explore a connection to the ground through various movement disciplines. We will include fundamental elements of Yoga\, Animal Flow\, Capoeria\, Gymnastics and Handbalancing to unearth the body and allow it to move with softness and grace.\nWild Movement\nThis is an exciting opportunity to explore some of the various ways in how we evolved to move. Learn to skillfully hang\, climb\, lift\, jump\, crawl and vault your way to a stronger more athletic body.\n\n10% of proceeds will be donated to supporting Ukraine through the IRC.
URL:https://www.energyforlifefitness.com/event/guest-workshop-intro-to-wild-movement-with-nala/
LOCATION:Energy for Life Fitness & Yoga\, 75 Sussex Street\, Brighton\, East Sussex\, BN2 0GQ\, United Kingdom
ATTACH;FMTTYPE=image/jpeg:https://www.energyforlifefitness.com/wp-content/uploads/2022/03/F56139AA-0E78-43E7-A2BF-CAD5CB611F6E.jpeg
END:VEVENT
END:VCALENDAR