BEGIN:VCALENDAR
VERSION:2.0
PRODID:-//Energy for Life Fitness Yoga &amp; Pilates - ECPv6.15.17.1//NONSGML v1.0//EN
CALSCALE:GREGORIAN
METHOD:PUBLISH
X-ORIGINAL-URL:https://www.energyforlifefitness.com
X-WR-CALDESC:Events for Energy for Life Fitness Yoga &amp; Pilates
REFRESH-INTERVAL;VALUE=DURATION:PT1H
X-Robots-Tag:noindex
X-PUBLISHED-TTL:PT1H
BEGIN:VTIMEZONE
TZID:Europe/London
BEGIN:DAYLIGHT
TZOFFSETFROM:+0000
TZOFFSETTO:+0100
TZNAME:BST
DTSTART:20240331T010000
END:DAYLIGHT
BEGIN:STANDARD
TZOFFSETFROM:+0100
TZOFFSETTO:+0000
TZNAME:GMT
DTSTART:20241027T010000
END:STANDARD
BEGIN:DAYLIGHT
TZOFFSETFROM:+0000
TZOFFSETTO:+0100
TZNAME:BST
DTSTART:20250330T010000
END:DAYLIGHT
BEGIN:STANDARD
TZOFFSETFROM:+0100
TZOFFSETTO:+0000
TZNAME:GMT
DTSTART:20251026T010000
END:STANDARD
BEGIN:DAYLIGHT
TZOFFSETFROM:+0000
TZOFFSETTO:+0100
TZNAME:BST
DTSTART:20260329T010000
END:DAYLIGHT
BEGIN:STANDARD
TZOFFSETFROM:+0100
TZOFFSETTO:+0000
TZNAME:GMT
DTSTART:20261025T010000
END:STANDARD
END:VTIMEZONE
BEGIN:VEVENT
DTSTART;TZID=Europe/London:20250419T180000
DTEND;TZID=Europe/London:20250419T200000
DTSTAMP:20260424T123513
CREATED:20241009T132706Z
LAST-MODIFIED:20250318T114012Z
UID:9519-1745085600-1745092800@www.energyforlifefitness.com
SUMMARY:Heart Circle: Sharing\, Cacao & Sound Bath
DESCRIPTION:It is an all welcome\, queer and LGBTQAI inclusive moon circle and you are invited to come just as you are\, to rest and feel.  A soft cloud of stillness\, to slow down\, feel and allow yourself to be nourished & who knows you may also giggle and laugh a bit in circle too.  \nWe connect to ourselves and are held with community of circle\, and allow the softness within us\, which is often lost in the busy vibes of life. When we allow ourselves to slow down\, the magic unfurls so we can feel and release more and then connect to each other & become more like the beautiful nature that we are part of.  \nWe toast the full moon\, starting with a gentle meditation & opening circle with some witchy poetry\, then share some cacao & create a sharing circle where you are given the chance to speak what has been on your heart.  \nWe give thanks to cacao\, & welcome any messages we receive or any wishes we may wish to send\, tapping in to that juicy intuition.  \nAfter this we then float into a blissful\, hour long sound bath\, including crystal bowls\, singing\, shamanic drum\, koshi bells\, shakers & the sounds of nature. \nYoga mats\, bolsters and cosy blankets provided but please bring extra layers if you like to be more toasty.  \nMoon & tarot cards are laid around the circle\, & we always have a moment to decompress & share insights about anything coming up for us.  \nPlease bring:\n✨ a cup for cacao\n✨ a journal & pen if you feel called\n✨ bottle of water  \nHave a beautiful day\,  \nBig love\,  \nChloe\n@paradisewild_  \nFeedback\n“The circle feels really inclusive & gender neutral”\n“It felt like the sound bath was a prayer”
URL:https://www.energyforlifefitness.com/event/heart-circle-sharing-cacao-sound-bath/
LOCATION:Energy for Life Fitness & Yoga\, 75 Sussex Street\, Brighton\, East Sussex\, BN2 0GQ\, United Kingdom
ATTACH;FMTTYPE=image/jpeg:https://www.energyforlifefitness.com/wp-content/uploads/2025/02/Heart-Circle.jpg
END:VEVENT
END:VCALENDAR